BEGIN:VCALENDAR
VERSION:2.0
PRODID:icalendar-ruby
CALSCALE:GREGORIAN
METHOD:PUBLISH
BEGIN:VEVENT
DTSTAMP:20260419T130317Z
UID:5-405890@stpetersbirchcove.org
DTSTART:20250601T133000Z
DTEND:20250601T143000Z
CLASS:PUBLIC
CREATED:20260419T091620
DESCRIPTION:Sunday Worship
LAST-MODIFIED:20260419T091620
LOCATION:
SUMMARY:Sunday Worship
URL;VALUE=URI:https://www.stpetersbirchcove.org/events/sunday-worship/2025-
 06-01
END:VEVENT
END:VCALENDAR
