BEGIN:VCALENDAR
VERSION:2.0
PRODID:icalendar-ruby
CALSCALE:GREGORIAN
METHOD:PUBLISH
BEGIN:VEVENT
DTSTAMP:20260419T145744Z
UID:5-405891@stpetersbirchcove.org
DTSTART:20250608T133000Z
DTEND:20250608T143000Z
CLASS:PUBLIC
CREATED:20260419T091620
DESCRIPTION:Sunday Worship
LAST-MODIFIED:20260419T091620
LOCATION:
SUMMARY:Sunday Worship
URL;VALUE=URI:https://www.stpetersbirchcove.org/events/sunday-worship/2025-
 06-08
END:VEVENT
END:VCALENDAR
