BEGIN:VCALENDAR
VERSION:2.0
PRODID:icalendar-ruby
CALSCALE:GREGORIAN
METHOD:PUBLISH
BEGIN:VEVENT
DTSTAMP:20260419T201145Z
UID:5-406415@stpetersbirchcove.org
DTSTART:20250629T133000Z
DTEND:20250629T143000Z
CLASS:PUBLIC
CREATED:20260419T164049
DESCRIPTION:Sunday Worship
LAST-MODIFIED:20260419T164049
LOCATION:
SUMMARY:Sunday Worship
URL;VALUE=URI:https://www.stpetersbirchcove.org/events/sunday-worship/2025-
 06-29
END:VEVENT
END:VCALENDAR
