BEGIN:VCALENDAR
VERSION:2.0
PRODID:icalendar-ruby
CALSCALE:GREGORIAN
METHOD:PUBLISH
BEGIN:VEVENT
DTSTAMP:20260419T233704Z
UID:5-406678@stpetersbirchcove.org
DTSTART:20250713T133000Z
DTEND:20250713T143000Z
CLASS:PUBLIC
CREATED:20260419T202336
DESCRIPTION:Sunday Worship
LAST-MODIFIED:20260419T202336
LOCATION:
SUMMARY:Sunday Worship
URL;VALUE=URI:https://www.stpetersbirchcove.org/events/sunday-worship/2025-
 07-13
END:VEVENT
END:VCALENDAR
