BEGIN:VCALENDAR
VERSION:2.0
PRODID:icalendar-ruby
CALSCALE:GREGORIAN
METHOD:PUBLISH
BEGIN:VEVENT
DTSTAMP:20260420T051315Z
UID:5-406942@stpetersbirchcove.org
DTSTART:20250803T133000Z
DTEND:20250803T143000Z
CLASS:PUBLIC
CREATED:20260420T000213
DESCRIPTION:Sunday Worship
LAST-MODIFIED:20260420T000213
LOCATION:
SUMMARY:Sunday Worship
URL;VALUE=URI:https://www.stpetersbirchcove.org/events/sunday-worship/2025-
 08-03
END:VEVENT
END:VCALENDAR
