BEGIN:VCALENDAR
VERSION:2.0
PRODID:icalendar-ruby
CALSCALE:GREGORIAN
METHOD:PUBLISH
BEGIN:VEVENT
DTSTAMP:20260420T065207Z
UID:5-407204@stpetersbirchcove.org
DTSTART:20250810T133000Z
DTEND:20250810T143000Z
CLASS:PUBLIC
CREATED:20260420T033906
DESCRIPTION:Sunday Worship
LAST-MODIFIED:20260420T033906
LOCATION:
SUMMARY:Sunday Worship
URL;VALUE=URI:https://www.stpetersbirchcove.org/events/sunday-worship/2025-
 08-10
END:VEVENT
END:VCALENDAR
