BEGIN:VCALENDAR
VERSION:2.0
PRODID:icalendar-ruby
CALSCALE:GREGORIAN
METHOD:PUBLISH
BEGIN:VEVENT
DTSTAMP:20260424T085059Z
UID:5-413469@stpetersbirchcove.org
DTSTART:20250817T133000Z
DTEND:20250817T143000Z
CLASS:PUBLIC
CREATED:20260423T231931
DESCRIPTION:Sunday Worship
LAST-MODIFIED:20260423T231931
LOCATION:
SUMMARY:Sunday Worship
URL;VALUE=URI:https://www.stpetersbirchcove.org/events/sunday-worship/2025-
 08-17
END:VEVENT
END:VCALENDAR
