BEGIN:VCALENDAR
VERSION:2.0
PRODID:icalendar-ruby
CALSCALE:GREGORIAN
METHOD:PUBLISH
BEGIN:VEVENT
DTSTAMP:20260424T103255Z
UID:5-413470@stpetersbirchcove.org
DTSTART:20250824T133000Z
DTEND:20250824T143000Z
CLASS:PUBLIC
CREATED:20260423T231931
DESCRIPTION:Sunday Worship
LAST-MODIFIED:20260423T231931
LOCATION:
SUMMARY:Sunday Worship
URL;VALUE=URI:https://www.stpetersbirchcove.org/events/sunday-worship/2025-
 08-24
END:VEVENT
END:VCALENDAR
