BEGIN:VCALENDAR
VERSION:2.0
PRODID:icalendar-ruby
CALSCALE:GREGORIAN
METHOD:PUBLISH
BEGIN:VEVENT
DTSTAMP:20260424T121737Z
UID:5-413732@stpetersbirchcove.org
DTSTART:20250831T133000Z
DTEND:20250831T143000Z
CLASS:PUBLIC
CREATED:20260424T084749
DESCRIPTION:Sunday Worship
LAST-MODIFIED:20260424T084749
LOCATION:
SUMMARY:Sunday Worship
URL;VALUE=URI:https://www.stpetersbirchcove.org/events/sunday-worship/2025-
 08-31
END:VEVENT
END:VCALENDAR
