BEGIN:VCALENDAR
VERSION:2.0
PRODID:icalendar-ruby
CALSCALE:GREGORIAN
METHOD:PUBLISH
BEGIN:VEVENT
DTSTAMP:20260424T160925Z
UID:5-413995@stpetersbirchcove.org
DTSTART:20250914T133000Z
DTEND:20250914T143000Z
CLASS:PUBLIC
CREATED:20260424T114121
DESCRIPTION:Sunday Worship
LAST-MODIFIED:20260424T114121
LOCATION:
SUMMARY:Sunday Worship
URL;VALUE=URI:https://www.stpetersbirchcove.org/events/sunday-worship/2025-
 09-14
END:VEVENT
END:VCALENDAR
