BEGIN:VCALENDAR
VERSION:2.0
PRODID:icalendar-ruby
CALSCALE:GREGORIAN
METHOD:PUBLISH
BEGIN:VEVENT
DTSTAMP:20260424T201401Z
UID:5-414258@stpetersbirchcove.org
DTSTART:20250928T133000Z
DTEND:20250928T143000Z
CLASS:PUBLIC
CREATED:20260424T142902
DESCRIPTION:Sunday Worship
LAST-MODIFIED:20260424T142902
LOCATION:
SUMMARY:Sunday Worship
URL;VALUE=URI:https://www.stpetersbirchcove.org/events/sunday-worship/2025-
 09-28
END:VEVENT
END:VCALENDAR
