BEGIN:VCALENDAR
VERSION:2.0
PRODID:icalendar-ruby
CALSCALE:GREGORIAN
METHOD:PUBLISH
BEGIN:VEVENT
DTSTAMP:20260425T002303Z
UID:5-414782@stpetersbirchcove.org
DTSTART:20251012T133000Z
DTEND:20251012T143000Z
CLASS:PUBLIC
CREATED:20260424T200346
DESCRIPTION:Sunday Worship
LAST-MODIFIED:20260424T200346
LOCATION:
SUMMARY:Sunday Worship
URL;VALUE=URI:https://www.stpetersbirchcove.org/events/sunday-worship/2025-
 10-12
END:VEVENT
END:VCALENDAR
