BEGIN:VCALENDAR
VERSION:2.0
PRODID:icalendar-ruby
CALSCALE:GREGORIAN
METHOD:PUBLISH
BEGIN:VEVENT
DTSTAMP:20260425T022139Z
UID:5-415044@stpetersbirchcove.org
DTSTART:20251019T133000Z
DTEND:20251019T143000Z
CLASS:PUBLIC
CREATED:20260424T225231
DESCRIPTION:Sunday Worship
LAST-MODIFIED:20260424T225231
LOCATION:
SUMMARY:Sunday Worship
URL;VALUE=URI:https://www.stpetersbirchcove.org/events/sunday-worship/2025-
 10-19
END:VEVENT
END:VCALENDAR
