BEGIN:VCALENDAR
VERSION:2.0
PRODID:icalendar-ruby
CALSCALE:GREGORIAN
METHOD:PUBLISH
BEGIN:VEVENT
DTSTAMP:20260425T041505Z
UID:5-415045@stpetersbirchcove.org
DTSTART:20251026T133000Z
DTEND:20251026T143000Z
CLASS:PUBLIC
CREATED:20260424T225231
DESCRIPTION:Sunday Worship
LAST-MODIFIED:20260424T225231
LOCATION:
SUMMARY:Sunday Worship
URL;VALUE=URI:https://www.stpetersbirchcove.org/events/sunday-worship/2025-
 10-26
END:VEVENT
END:VCALENDAR
