BEGIN:VCALENDAR
VERSION:2.0
PRODID:icalendar-ruby
CALSCALE:GREGORIAN
METHOD:PUBLISH
BEGIN:VEVENT
DTSTAMP:20260425T114420Z
UID:5-415310@stpetersbirchcove.org
DTSTART:20251123T143000Z
DTEND:20251123T153000Z
CLASS:PUBLIC
CREATED:20260425T083853
DESCRIPTION:Sunday Worship
LAST-MODIFIED:20260425T083853
LOCATION:
SUMMARY:Sunday Worship
URL;VALUE=URI:https://www.stpetersbirchcove.org/events/sunday-worship/2025-
 11-23
END:VEVENT
END:VCALENDAR
